BEGIN:VCALENDAR
VERSION:2.0
PRODID:concerti//https://www.concerti.de
CALSCALE:GREGORIAN
BEGIN:VTIMEZONE
TZID:Europe/Berlin
X-LIC-LOCATION:Europe/Berlin
BEGIN:DAYLIGHT
TZOFFSETFROM:+0100
TZOFFSETTO:+0200
TZNAME:CEST
DTSTART:19700329T020000
RRULE:FREQ=YEARLY;BYMONTH=3;BYDAY=-1SU
END:DAYLIGHT
BEGIN:STANDARD
TZOFFSETFROM:+0200
TZOFFSETTO:+0100
TZNAME:CET
DTSTART:19701025T030000
RRULE:FREQ=YEARLY;BYMONTH=10;BYDAY=-1SU
END:STANDARD
END:VTIMEZONE
BEGIN:VEVENT
UID:b0718e03f0890b0d0c5bd968e290fd62
SUMMARY:Isabelle van Keulen (Violine), Hiroko Sakagami (Klavier)
URL:https://www.concerti.de/termine/isabelle-van-keulen-violine-hiroko-sakagami-klavier-734047/
DTSTART;TZID=Europe/Berlin:20261018T170000
DTEND;TZID=Europe/Berlin:20261018T190000
DESCRIPTION:Interpreten: Isabelle van Keulen (Violine)\, Hiroko Sakagami (Klavier) \nProgramm: Beethoven: Violinsonate A-Dur op. 30/1\, Lutoslawski: Partita für Violine & Klavier\, Schumann: Violinsonate d-Moll op. 121 \nhttps://www.concerti.de/termine/isabelle-van-keulen-violine-hiroko-sakagami-klavier-734047/
LOCATION:Yehudi Menuhin Forum\, Bern
END:VEVENT
END:VCALENDAR