BEGIN:VCALENDAR
VERSION:2.0
PRODID:concerti//https://www.concerti.de
CALSCALE:GREGORIAN
BEGIN:VTIMEZONE
TZID:Europe/Berlin
X-LIC-LOCATION:Europe/Berlin
BEGIN:DAYLIGHT
TZOFFSETFROM:+0100
TZOFFSETTO:+0200
TZNAME:CEST
DTSTART:19700329T020000
RRULE:FREQ=YEARLY;BYMONTH=3;BYDAY=-1SU
END:DAYLIGHT
BEGIN:STANDARD
TZOFFSETFROM:+0200
TZOFFSETTO:+0100
TZNAME:CET
DTSTART:19701025T030000
RRULE:FREQ=YEARLY;BYMONTH=10;BYDAY=-1SU
END:STANDARD
END:VTIMEZONE
BEGIN:VEVENT
UID:e47d01b050ed0e310dfbbd1a4d707f34
SUMMARY:Hommage an die Weiblichkeit - Klassik.Klang Berndorf
URL:https://www.concerti.de/termine/hommage-an-die-weiblichkeit-811001/
DTSTART;TZID=Europe/Berlin:20260531T180000
DTEND;TZID=Europe/Berlin:20260531T200000
DESCRIPTION:Interpreten: Angelika Kirchschlager (Gesang & Rezitation)\, Katharina Straßer (Gesang & Rezitation)\, Maria Happel (Gesang & Rezitation) \nhttps://www.concerti.de/termine/hommage-an-die-weiblichkeit-811001/
LOCATION:Stadttheater\, Berndorf
END:VEVENT
END:VCALENDAR