BEGIN:VCALENDAR
VERSION:2.0
PRODID:concerti//https://www.concerti.de
CALSCALE:GREGORIAN
BEGIN:VTIMEZONE
TZID:Europe/Berlin
X-LIC-LOCATION:Europe/Berlin
BEGIN:DAYLIGHT
TZOFFSETFROM:+0100
TZOFFSETTO:+0200
TZNAME:CEST
DTSTART:19700329T020000
RRULE:FREQ=YEARLY;BYMONTH=3;BYDAY=-1SU
END:DAYLIGHT
BEGIN:STANDARD
TZOFFSETFROM:+0200
TZOFFSETTO:+0100
TZNAME:CET
DTSTART:19701025T030000
RRULE:FREQ=YEARLY;BYMONTH=10;BYDAY=-1SU
END:STANDARD
END:VTIMEZONE
BEGIN:VEVENT
UID:2ed5283e6a24526c784b371df3d1fd2d
SUMMARY:Kino für die Ohren - Dresdner Musikfestspiele
URL:https://www.concerti.de/termine/kino-fuer-die-ohren-813201/
DTSTART;TZID=Europe/Berlin:20260608T193000
DTEND;TZID=Europe/Berlin:20260608T213000
DESCRIPTION:Interpreten: Kian Soltani (Violoncello)\, Cellisten & Cellistinnen \nProgramm: Werke von Zimmer\, Shotre\, Heil\, Soltani u. a. \nhttps://www.concerti.de/termine/kino-fuer-die-ohren-813201/
LOCATION:Schauburg\, Dresden
END:VEVENT
END:VCALENDAR