BEGIN:VCALENDAR
VERSION:2.0
PRODID:concerti//https://www.concerti.de
CALSCALE:GREGORIAN
BEGIN:VTIMEZONE
TZID:Europe/Berlin
X-LIC-LOCATION:Europe/Berlin
BEGIN:DAYLIGHT
TZOFFSETFROM:+0100
TZOFFSETTO:+0200
TZNAME:CEST
DTSTART:19700329T020000
RRULE:FREQ=YEARLY;BYMONTH=3;BYDAY=-1SU
END:DAYLIGHT
BEGIN:STANDARD
TZOFFSETFROM:+0200
TZOFFSETTO:+0100
TZNAME:CET
DTSTART:19701025T030000
RRULE:FREQ=YEARLY;BYMONTH=10;BYDAY=-1SU
END:STANDARD
END:VTIMEZONE
BEGIN:VEVENT
UID:e693664c3ce34c2475b1a36483e4f696
SUMMARY:The King&#8217;s Singers
URL:https://www.concerti.de/termine/the-kings-singers-lambertikirche-oldenburg-760479/
DTSTART;TZID=Europe/Berlin:20260426T190000
DTEND;TZID=Europe/Berlin:20260426T210000
DESCRIPTION:Interpreten: The King\'s Singers \nhttps://www.concerti.de/termine/the-kings-singers-lambertikirche-oldenburg-760479/
LOCATION:Lambertikirche Oldenburg\, Markt 17\, 26122 Oldenburg
END:VEVENT
END:VCALENDAR