BEGIN:VCALENDAR
VERSION:2.0
PRODID:concerti//https://www.concerti.de
CALSCALE:GREGORIAN
BEGIN:VTIMEZONE
TZID:Europe/Berlin
X-LIC-LOCATION:Europe/Berlin
BEGIN:DAYLIGHT
TZOFFSETFROM:+0100
TZOFFSETTO:+0200
TZNAME:CEST
DTSTART:19700329T020000
RRULE:FREQ=YEARLY;BYMONTH=3;BYDAY=-1SU
END:DAYLIGHT
BEGIN:STANDARD
TZOFFSETFROM:+0200
TZOFFSETTO:+0100
TZNAME:CET
DTSTART:19701025T030000
RRULE:FREQ=YEARLY;BYMONTH=10;BYDAY=-1SU
END:STANDARD
END:VTIMEZONE
BEGIN:VEVENT
UID:d74fa51d62558d7bee06e3e9ffbb6e69
SUMMARY:Sonnenaufgang – Wanderkonzert auf den Schökl - Styriarte Graz
URL:https://www.concerti.de/termine/sonnenaufgang-wanderkonzert-auf-den-schoekl-816958/
DTSTART;TZID=Europe/Berlin:20260726T050000
DTEND;TZID=Europe/Berlin:20260726T070000
DESCRIPTION:Interpreten: Grazissimo Brass Quintett \nProgramm: Werke von Gstättner \nhttps://www.concerti.de/termine/sonnenaufgang-wanderkonzert-auf-den-schoekl-816958/
LOCATION:Talstation Schöcklseilbahn in St. Radegund\, St. Radegund
END:VEVENT
END:VCALENDAR