BEGIN:VCALENDAR
VERSION:2.0
PRODID:concerti//https://www.concerti.de
CALSCALE:GREGORIAN
BEGIN:VTIMEZONE
TZID:Europe/Berlin
X-LIC-LOCATION:Europe/Berlin
BEGIN:DAYLIGHT
TZOFFSETFROM:+0100
TZOFFSETTO:+0200
TZNAME:CEST
DTSTART:19700329T020000
RRULE:FREQ=YEARLY;BYMONTH=3;BYDAY=-1SU
END:DAYLIGHT
BEGIN:STANDARD
TZOFFSETFROM:+0200
TZOFFSETTO:+0100
TZNAME:CET
DTSTART:19701025T030000
RRULE:FREQ=YEARLY;BYMONTH=10;BYDAY=-1SU
END:STANDARD
END:VTIMEZONE
BEGIN:VEVENT
UID:6f96efb7d09a1172fc3828d7b024e571
SUMMARY:Nina Scheidmantel (Klavier), Bad Reichenhaller Philharmoniker, Mino Marani (Leitung)
URL:https://www.concerti.de/termine/nina-scheidmantel-klavier-bad-reichenhaller-philharmoniker-mino-marani-leitung-818582/
DTSTART;TZID=Europe/Berlin:20260424T193000
DTEND;TZID=Europe/Berlin:20260424T213000
DESCRIPTION:Interpreten: Nina Scheidmantel (Klavier)\, Bad Reichenhaller Philharmoniker\, Mino Marani (Leitung) \nProgramm: Schumann: Manfred-Ouvertüre op. 115\, C. Schumann: Klavierkonzert a-Moll op. 7\, Beethoven: Sinfonie Nr. 2 D-Dur op. 36 \nhttps://www.concerti.de/termine/nina-scheidmantel-klavier-bad-reichenhaller-philharmoniker-mino-marani-leitung-818582/
LOCATION:Theater im Kurgastzentrum\, Bad Reichenhall
END:VEVENT
END:VCALENDAR