BEGIN:VCALENDAR
VERSION:2.0
PRODID:concerti//https://www.concerti.de
CALSCALE:GREGORIAN
BEGIN:VTIMEZONE
TZID:Europe/Berlin
X-LIC-LOCATION:Europe/Berlin
BEGIN:DAYLIGHT
TZOFFSETFROM:+0100
TZOFFSETTO:+0200
TZNAME:CEST
DTSTART:19700329T020000
RRULE:FREQ=YEARLY;BYMONTH=3;BYDAY=-1SU
END:DAYLIGHT
BEGIN:STANDARD
TZOFFSETFROM:+0200
TZOFFSETTO:+0100
TZNAME:CET
DTSTART:19701025T030000
RRULE:FREQ=YEARLY;BYMONTH=10;BYDAY=-1SU
END:STANDARD
END:VTIMEZONE
BEGIN:VEVENT
UID:cffd5fa6d4f1878c664f551cc186a2c6
SUMMARY:Matsuri Yoshida (Klavier)
URL:https://www.concerti.de/termine/matsuri-yoshida-klavier-800703/
DTSTART;TZID=Europe/Berlin:20260502T160000
DTEND;TZID=Europe/Berlin:20260502T180000
DESCRIPTION:Interpreten: Matsuri Yoshida (Klavier) \nProgramm: Mozart: Rondo a-Moll KV 511\, Mendelssohn: Lieder ohne Worte op. 53\, Schumann: Gesänge der Frühe op. 133\, Brahms: Klavierstücke op. 118 \nhttps://www.concerti.de/termine/matsuri-yoshida-klavier-800703/
LOCATION:Liedberger Landgasthaus\, Korschenbroich
END:VEVENT
END:VCALENDAR