BEGIN:VCALENDAR
VERSION:2.0
PRODID:concerti//https://www.concerti.de
CALSCALE:GREGORIAN
BEGIN:VTIMEZONE
TZID:Europe/Berlin
X-LIC-LOCATION:Europe/Berlin
BEGIN:DAYLIGHT
TZOFFSETFROM:+0100
TZOFFSETTO:+0200
TZNAME:CEST
DTSTART:19700329T020000
RRULE:FREQ=YEARLY;BYMONTH=3;BYDAY=-1SU
END:DAYLIGHT
BEGIN:STANDARD
TZOFFSETFROM:+0200
TZOFFSETTO:+0100
TZNAME:CET
DTSTART:19701025T030000
RRULE:FREQ=YEARLY;BYMONTH=10;BYDAY=-1SU
END:STANDARD
END:VTIMEZONE
BEGIN:VEVENT
UID:c2be93b88076c9a8a9e3ef6e80c83d20
SUMMARY:Konstantin Zvyagin (Klavier)
URL:https://www.concerti.de/termine/konstantin-zvyagin-klavier-818988/
DTSTART;TZID=Europe/Berlin:20260503T170000
DTEND;TZID=Europe/Berlin:20260503T190000
DESCRIPTION:Interpreten: Konstantin Zvyagin (Klavier) \nProgramm: Schumann/Zvyagin: Manfred op. 115\, Schumann: Nachtstücke op. 23 & Geistervariationen Es-Dur WoO 24 \nhttps://www.concerti.de/termine/konstantin-zvyagin-klavier-818988/
LOCATION:Klangbrücke\, Aachen
END:VEVENT
END:VCALENDAR