BEGIN:VCALENDAR
VERSION:2.0
PRODID:concerti//https://www.concerti.de
CALSCALE:GREGORIAN
BEGIN:VTIMEZONE
TZID:Europe/Berlin
X-LIC-LOCATION:Europe/Berlin
BEGIN:DAYLIGHT
TZOFFSETFROM:+0100
TZOFFSETTO:+0200
TZNAME:CEST
DTSTART:19700329T020000
RRULE:FREQ=YEARLY;BYMONTH=3;BYDAY=-1SU
END:DAYLIGHT
BEGIN:STANDARD
TZOFFSETFROM:+0200
TZOFFSETTO:+0100
TZNAME:CET
DTSTART:19701025T030000
RRULE:FREQ=YEARLY;BYMONTH=10;BYDAY=-1SU
END:STANDARD
END:VTIMEZONE
BEGIN:VEVENT
UID:5177b8c6307825fe580f981d59ddb0f7
SUMMARY:Alexey Lebedev (Klavier)
URL:https://www.concerti.de/termine/alexey-lebedev-klavier-690051/
DTSTART;TZID=Europe/Berlin:20260719T183000
DTEND;TZID=Europe/Berlin:20260719T203000
DESCRIPTION:Interpreten: Alexey Lebedev (Klavier) \nProgramm: Beethoven: Klaviersonate Nr. 7 D-Dur op. 10 Nr. 3\, Liszt: Mephisto Walzer Nr. 1\, Brahms: Klaviersonate Nr. 3 f-Moll op. 5 \nhttps://www.concerti.de/termine/alexey-lebedev-klavier-690051/
LOCATION:Wandelhalle\, Bad Oeynhausen
END:VEVENT
END:VCALENDAR