BEGIN:VCALENDAR
VERSION:2.0
PRODID:concerti//https://www.concerti.de
CALSCALE:GREGORIAN
BEGIN:VTIMEZONE
TZID:Europe/Berlin
X-LIC-LOCATION:Europe/Berlin
BEGIN:DAYLIGHT
TZOFFSETFROM:+0100
TZOFFSETTO:+0200
TZNAME:CEST
DTSTART:19700329T020000
RRULE:FREQ=YEARLY;BYMONTH=3;BYDAY=-1SU
END:DAYLIGHT
BEGIN:STANDARD
TZOFFSETFROM:+0200
TZOFFSETTO:+0100
TZNAME:CET
DTSTART:19701025T030000
RRULE:FREQ=YEARLY;BYMONTH=10;BYDAY=-1SU
END:STANDARD
END:VTIMEZONE
BEGIN:VEVENT
UID:44e30c1edf0fce5fe03288e5106ff6c0
SUMMARY:Matsuri Yoshida (Klavier)
URL:https://www.concerti.de/termine/matsuri-yoshida-klavier-800703/
DTSTART;TZID=Europe/Berlin:20260927T170000
DTEND;TZID=Europe/Berlin:20260927T190000
DESCRIPTION:Interpreten: Matsuri Yoshida (Klavier) \nProgramm: Mozart: Rondo a-Moll KV 511\, Mendelssohn: Lieder ohne Worte op. 53\, Schumann: Gesänge der Frühe op. 133\, Brahms: Klavierstücke op. 118 \nhttps://www.concerti.de/termine/matsuri-yoshida-klavier-800703/
LOCATION:Schloss Eulenbroich\, Rösrath
END:VEVENT
END:VCALENDAR