BEGIN:VCALENDAR
VERSION:2.0
PRODID:concerti//https://www.concerti.de
CALSCALE:GREGORIAN
BEGIN:VTIMEZONE
TZID:Europe/Berlin
X-LIC-LOCATION:Europe/Berlin
BEGIN:DAYLIGHT
TZOFFSETFROM:+0100
TZOFFSETTO:+0200
TZNAME:CEST
DTSTART:19700329T020000
RRULE:FREQ=YEARLY;BYMONTH=3;BYDAY=-1SU
END:DAYLIGHT
BEGIN:STANDARD
TZOFFSETFROM:+0200
TZOFFSETTO:+0100
TZNAME:CET
DTSTART:19701025T030000
RRULE:FREQ=YEARLY;BYMONTH=10;BYDAY=-1SU
END:STANDARD
END:VTIMEZONE
BEGIN:VEVENT
UID:3820c295f5bf0c42c9483d7d594bf7c2
SUMMARY:Avec le temps - Serenaden um halb8
URL:https://www.concerti.de/termine/avec-le-temps-819268/
DTSTART;TZID=Europe/Berlin:20260806T193000
DTEND;TZID=Europe/Berlin:20260806T213000
DESCRIPTION:Interpreten: Annina Gieré (Gesang)\, Mario Strebel (Akkordeon) \nProgramm: Musik von Piaf\, Aznavour\, Brel & Barbara \nhttps://www.concerti.de/termine/avec-le-temps-819268/
LOCATION:Forum 98\, Zürich
END:VEVENT
END:VCALENDAR