BEGIN:VCALENDAR
VERSION:2.0
PRODID:concerti//https://www.concerti.de
CALSCALE:GREGORIAN
BEGIN:VTIMEZONE
TZID:Europe/Berlin
X-LIC-LOCATION:Europe/Berlin
BEGIN:DAYLIGHT
TZOFFSETFROM:+0100
TZOFFSETTO:+0200
TZNAME:CEST
DTSTART:19700329T020000
RRULE:FREQ=YEARLY;BYMONTH=3;BYDAY=-1SU
END:DAYLIGHT
BEGIN:STANDARD
TZOFFSETFROM:+0200
TZOFFSETTO:+0100
TZNAME:CET
DTSTART:19701025T030000
RRULE:FREQ=YEARLY;BYMONTH=10;BYDAY=-1SU
END:STANDARD
END:VTIMEZONE
BEGIN:VEVENT
UID:2db35a2e3ae3ed9b6fd867258c09f08a
SUMMARY:Muttertagskonzert
URL:https://www.concerti.de/termine/muttertagskonzert-brandenburger-theater-819956/
DTSTART;TZID=Europe/Berlin:20260510T160000
DTEND;TZID=Europe/Berlin:20260510T180000
DESCRIPTION:Interpreten: Henry Nandzik (Gesang)\, Marion Wulf (Gesang)\, Brandenburger Symphoniker\, Heinz Walter Florin (Leitung) \nhttps://www.concerti.de/termine/muttertagskonzert-brandenburger-theater-819956/
LOCATION:Brandenburger Theater\, Grabenstraße 14\, 14776 Brandenburg (Havel)
END:VEVENT
END:VCALENDAR