BEGIN:VCALENDAR
VERSION:2.0
PRODID:concerti//https://www.concerti.de
CALSCALE:GREGORIAN
BEGIN:VTIMEZONE
TZID:Europe/Berlin
X-LIC-LOCATION:Europe/Berlin
BEGIN:DAYLIGHT
TZOFFSETFROM:+0100
TZOFFSETTO:+0200
TZNAME:CEST
DTSTART:19700329T020000
RRULE:FREQ=YEARLY;BYMONTH=3;BYDAY=-1SU
END:DAYLIGHT
BEGIN:STANDARD
TZOFFSETFROM:+0200
TZOFFSETTO:+0100
TZNAME:CET
DTSTART:19701025T030000
RRULE:FREQ=YEARLY;BYMONTH=10;BYDAY=-1SU
END:STANDARD
END:VTIMEZONE
BEGIN:VEVENT
UID:b1de6c7c6b01d22693d11d546e7cd0d0
SUMMARY:Artiom Ordiyants (Violine), Brandenburger Symphoniker, Andreas Spering (Leitung)
URL:https://www.concerti.de/termine/artiom-ordiyants-violine-brandenburger-symphoniker-andreas-spering-leitung-819965/
DTSTART;TZID=Europe/Berlin:20260606T193000
DTEND;TZID=Europe/Berlin:20260606T213000
DESCRIPTION:Interpreten: Artiom Ordiyants (Violine)\, Brandenburger Symphoniker\, Andreas Spering (Leitung) \nProgramm: Gade: Konzertouvertüre zu „Nachklange von Ossian“ op. 1\, Sibelius: Violinkonzert d-Moll op. 47\, Grieg: Sinfonie c-Moll \nhttps://www.concerti.de/termine/artiom-ordiyants-violine-brandenburger-symphoniker-andreas-spering-leitung-819965/
LOCATION:Dom\, Brandenburg (Havel)
END:VEVENT
END:VCALENDAR