BEGIN:VCALENDAR
VERSION:2.0
PRODID:concerti//https://www.concerti.de
CALSCALE:GREGORIAN
BEGIN:VTIMEZONE
TZID:Europe/Berlin
X-LIC-LOCATION:Europe/Berlin
BEGIN:DAYLIGHT
TZOFFSETFROM:+0100
TZOFFSETTO:+0200
TZNAME:CEST
DTSTART:19700329T020000
RRULE:FREQ=YEARLY;BYMONTH=3;BYDAY=-1SU
END:DAYLIGHT
BEGIN:STANDARD
TZOFFSETFROM:+0200
TZOFFSETTO:+0100
TZNAME:CET
DTSTART:19701025T030000
RRULE:FREQ=YEARLY;BYMONTH=10;BYDAY=-1SU
END:STANDARD
END:VTIMEZONE
BEGIN:VEVENT
UID:f4fc358406b5ced04d95631f4c2ef8b5
SUMMARY:Wiener Philharmoniker, Alain Altinoglu (Leitung) - Grosse Orchester
URL:https://www.concerti.de/termine/wiener-philharmoniker-alain-altinoglu-leitung-brucknerhaus-linz-820401/
DTSTART;TZID=Europe/Berlin:20261203T193000
DTEND;TZID=Europe/Berlin:20261203T213000
DESCRIPTION:Interpreten: Wiener Philharmoniker\, Alain Altinoglu (Leitung) \nProgramm: Mozart: Sinfonie Nr. 40 g-Moll KV 550\, Dutilleux: Métaboles\, Ravel: Bolero \nhttps://www.concerti.de/termine/wiener-philharmoniker-alain-altinoglu-leitung-brucknerhaus-linz-820401/
LOCATION:Brucknerhaus Linz\, Untere Donaulände 7\, 4010 Linz
END:VEVENT
END:VCALENDAR