BEGIN:VCALENDAR
VERSION:2.0
PRODID:concerti//https://www.concerti.de
CALSCALE:GREGORIAN
BEGIN:VTIMEZONE
TZID:Europe/Berlin
X-LIC-LOCATION:Europe/Berlin
BEGIN:DAYLIGHT
TZOFFSETFROM:+0100
TZOFFSETTO:+0200
TZNAME:CEST
DTSTART:19700329T020000
RRULE:FREQ=YEARLY;BYMONTH=3;BYDAY=-1SU
END:DAYLIGHT
BEGIN:STANDARD
TZOFFSETFROM:+0200
TZOFFSETTO:+0100
TZNAME:CET
DTSTART:19701025T030000
RRULE:FREQ=YEARLY;BYMONTH=10;BYDAY=-1SU
END:STANDARD
END:VTIMEZONE
BEGIN:VEVENT
UID:4e58c67433329bae7b4a93dad44ffc53
SUMMARY:Yamen Saadi (Violine), Bruckner Orchester Linz, Antonello Manacorda (Leitung) - Grosse Orchester
URL:https://www.concerti.de/termine/yamen-saadi-violine-bruckner-orchester-linz-antonello-manacorda-leitung-brucknerhaus-linz-820410/
DTSTART;TZID=Europe/Berlin:20270317T193000
DTEND;TZID=Europe/Berlin:20270317T213000
DESCRIPTION:Interpreten: Yamen Saadi (Violine)\, Bruckner Orchester Linz\, Antonello Manacorda (Leitung) \nProgramm: Mendelssohn: Violinkonzert e-Moll op. 64\, Mahler: Sinfonie Nr. 7 \nhttps://www.concerti.de/termine/yamen-saadi-violine-bruckner-orchester-linz-antonello-manacorda-leitung-brucknerhaus-linz-820410/
LOCATION:Brucknerhaus Linz\, Untere Donaulände 7\, 4010 Linz
END:VEVENT
END:VCALENDAR