BEGIN:VCALENDAR
VERSION:2.0
PRODID:concerti//https://www.concerti.de
CALSCALE:GREGORIAN
BEGIN:VTIMEZONE
TZID:Europe/Berlin
X-LIC-LOCATION:Europe/Berlin
BEGIN:DAYLIGHT
TZOFFSETFROM:+0100
TZOFFSETTO:+0200
TZNAME:CEST
DTSTART:19700329T020000
RRULE:FREQ=YEARLY;BYMONTH=3;BYDAY=-1SU
END:DAYLIGHT
BEGIN:STANDARD
TZOFFSETFROM:+0200
TZOFFSETTO:+0100
TZNAME:CET
DTSTART:19701025T030000
RRULE:FREQ=YEARLY;BYMONTH=10;BYDAY=-1SU
END:STANDARD
END:VTIMEZONE
BEGIN:VEVENT
UID:cb886288df7f972b091c9e83693d8545
SUMMARY:Seong-Jin Cho (Klavier), Tschechische Philharmonie, Semyon Bychkov (Leitung) - Grosse Orchester
URL:https://www.concerti.de/termine/seong-jin-cho-klavier-tschechische-philharmonie-semyon-bychkov-leitung-brucknerhaus-linz-820413/
DTSTART;TZID=Europe/Berlin:20270412T193000
DTEND;TZID=Europe/Berlin:20270412T213000
DESCRIPTION:Interpreten: Seong-Jin Cho (Klavier)\, Tschechische Philharmonie\, Semyon Bychkov (Leitung) \nProgramm: Rachmaninow: Klavierkonzert Nr. 2 c-Moll op. 18 & Sinfonische Tänze op. 45 \nhttps://www.concerti.de/termine/seong-jin-cho-klavier-tschechische-philharmonie-semyon-bychkov-leitung-brucknerhaus-linz-820413/
LOCATION:Brucknerhaus Linz\, Untere Donaulände 7\, 4010 Linz
END:VEVENT
END:VCALENDAR