BEGIN:VCALENDAR
VERSION:2.0
PRODID:concerti//https://www.concerti.de
CALSCALE:GREGORIAN
BEGIN:VTIMEZONE
TZID:Europe/Berlin
X-LIC-LOCATION:Europe/Berlin
BEGIN:DAYLIGHT
TZOFFSETFROM:+0100
TZOFFSETTO:+0200
TZNAME:CEST
DTSTART:19700329T020000
RRULE:FREQ=YEARLY;BYMONTH=3;BYDAY=-1SU
END:DAYLIGHT
BEGIN:STANDARD
TZOFFSETFROM:+0200
TZOFFSETTO:+0100
TZNAME:CET
DTSTART:19701025T030000
RRULE:FREQ=YEARLY;BYMONTH=10;BYDAY=-1SU
END:STANDARD
END:VTIMEZONE
BEGIN:VEVENT
UID:41e65ee661f84eae8741802e3eccb79f
SUMMARY:Alexei Kornienko (Klavier), Keller-Quartett - Wörther See Classics Festival
URL:https://www.concerti.de/termine/alexei-kornienko-klavier-keller-quartett-konzerthaus-klagenfurt-820428/
DTSTART;TZID=Europe/Berlin:20260621T110000
DTEND;TZID=Europe/Berlin:20260621T130000
DESCRIPTION:Interpreten: Alexei Kornienko (Klavier)\, Keller-Quartett \nProgramm: Schubert: Streichquartett Nr. 14 d-Moll D 810 „Der Tod und das Mädchen“\, Schumann: Klavierquintett Es-Dur op. 44 \nhttps://www.concerti.de/termine/alexei-kornienko-klavier-keller-quartett-konzerthaus-klagenfurt-820428/
LOCATION:Konzerthaus Klagenfurt\, Mießtaler Str. 8\, 9020 Klagenfurt
END:VEVENT
END:VCALENDAR