BEGIN:VCALENDAR
VERSION:2.0
PRODID:concerti//https://www.concerti.de
CALSCALE:GREGORIAN
BEGIN:VTIMEZONE
TZID:Europe/Berlin
X-LIC-LOCATION:Europe/Berlin
BEGIN:DAYLIGHT
TZOFFSETFROM:+0100
TZOFFSETTO:+0200
TZNAME:CEST
DTSTART:19700329T020000
RRULE:FREQ=YEARLY;BYMONTH=3;BYDAY=-1SU
END:DAYLIGHT
BEGIN:STANDARD
TZOFFSETFROM:+0200
TZOFFSETTO:+0100
TZNAME:CET
DTSTART:19701025T030000
RRULE:FREQ=YEARLY;BYMONTH=10;BYDAY=-1SU
END:STANDARD
END:VTIMEZONE
BEGIN:VEVENT
UID:cc9bc76be2918d1594d767e8bd83ebd0
SUMMARY:Puts: Emily – No Prisoner Be - Grafenegg Festival
URL:https://www.concerti.de/termine/puts-emily-no-prisoner-be-820434/
DTSTART;TZID=Europe/Berlin:20260815T153000
DTEND;TZID=Europe/Berlin:20260815T173000
DESCRIPTION:Interpreten: Joyce DiDonato (Mezzosopran)\, Time for Three\, Andrew Staples (Regie) \nhttps://www.concerti.de/termine/puts-emily-no-prisoner-be-820434/
LOCATION:Schloss Grafenegg\, Grafenegg 10\, 3485 Grafenegg
END:VEVENT
END:VCALENDAR