BEGIN:VCALENDAR
VERSION:2.0
PRODID:concerti//https://www.concerti.de
CALSCALE:GREGORIAN
BEGIN:VTIMEZONE
TZID:Europe/Berlin
X-LIC-LOCATION:Europe/Berlin
BEGIN:DAYLIGHT
TZOFFSETFROM:+0100
TZOFFSETTO:+0200
TZNAME:CEST
DTSTART:19700329T020000
RRULE:FREQ=YEARLY;BYMONTH=3;BYDAY=-1SU
END:DAYLIGHT
BEGIN:STANDARD
TZOFFSETFROM:+0200
TZOFFSETTO:+0100
TZNAME:CET
DTSTART:19701025T030000
RRULE:FREQ=YEARLY;BYMONTH=10;BYDAY=-1SU
END:STANDARD
END:VTIMEZONE
BEGIN:VEVENT
UID:a24b5b0d601e4257834322fca50141c2
SUMMARY:Piotr Beczała (Tenor), Sarah Tysman (Klavier) - Grafenegg Festival
URL:https://www.concerti.de/termine/piotr-beczala-tenor-sarah-tysman-klavier-820440/
DTSTART;TZID=Europe/Berlin:20260816T110000
DTEND;TZID=Europe/Berlin:20260816T130000
DESCRIPTION:Interpreten: Piotr Beczała (Tenor)\, Sarah Tysman (Klavier) \nProgramm: Werke von Karłowicz\, Moniuszko\, Dvořák\, Tschaikowsky & Rachmaninow \nhttps://www.concerti.de/termine/piotr-beczala-tenor-sarah-tysman-klavier-820440/
LOCATION:Schloss Grafenegg\, Grafenegg 10\, 3485 Grafenegg
END:VEVENT
END:VCALENDAR