BEGIN:VCALENDAR
VERSION:2.0
PRODID:concerti//https://www.concerti.de
CALSCALE:GREGORIAN
BEGIN:VTIMEZONE
TZID:Europe/Berlin
X-LIC-LOCATION:Europe/Berlin
BEGIN:DAYLIGHT
TZOFFSETFROM:+0100
TZOFFSETTO:+0200
TZNAME:CEST
DTSTART:19700329T020000
RRULE:FREQ=YEARLY;BYMONTH=3;BYDAY=-1SU
END:DAYLIGHT
BEGIN:STANDARD
TZOFFSETFROM:+0200
TZOFFSETTO:+0100
TZNAME:CET
DTSTART:19701025T030000
RRULE:FREQ=YEARLY;BYMONTH=10;BYDAY=-1SU
END:STANDARD
END:VTIMEZONE
BEGIN:VEVENT
UID:62433b988dc265b3586554e90503ae26
SUMMARY:Colin Pütz (Klavier), Tonkünstler-Orchester Niederösterreich, Domingo Hindoyan (Leitung) - Grafenegg Festival
URL:https://www.concerti.de/termine/colin-puetz-klavier-tonkuenstler-orchester-niederoesterreich-domingo-hindoyan-leitung-820443/
DTSTART;TZID=Europe/Berlin:20260816T193000
DTEND;TZID=Europe/Berlin:20260816T213000
DESCRIPTION:Interpreten: Colin Pütz (Klavier)\, Tonkünstler-Orchester Niederösterreich\, Domingo Hindoyan (Leitung) \nProgramm: Beethoven: Klavierkonzert Nr. 1 C-Dur op. 15\, Tschaikowsky: Sinfonie Nr. 6 h-Moll op. 74 „Pathétique“ \nhttps://www.concerti.de/termine/colin-puetz-klavier-tonkuenstler-orchester-niederoesterreich-domingo-hindoyan-leitung-820443/
LOCATION:Schloss Grafenegg\, Grafenegg 10\, 3485 Grafenegg
END:VEVENT
END:VCALENDAR