BEGIN:VCALENDAR
VERSION:2.0
PRODID:concerti//https://www.concerti.de
CALSCALE:GREGORIAN
BEGIN:VTIMEZONE
TZID:Europe/Berlin
X-LIC-LOCATION:Europe/Berlin
BEGIN:DAYLIGHT
TZOFFSETFROM:+0100
TZOFFSETTO:+0200
TZNAME:CEST
DTSTART:19700329T020000
RRULE:FREQ=YEARLY;BYMONTH=3;BYDAY=-1SU
END:DAYLIGHT
BEGIN:STANDARD
TZOFFSETFROM:+0200
TZOFFSETTO:+0100
TZNAME:CET
DTSTART:19701025T030000
RRULE:FREQ=YEARLY;BYMONTH=10;BYDAY=-1SU
END:STANDARD
END:VTIMEZONE
BEGIN:VEVENT
UID:c0caf4c9ae346dfeac15d3529beccd60
SUMMARY:Karl-Heinz Schütz (Flöte), Anneleen Lenaerts (Harfe), Festival Strings Lucerne, Daniel Dodds (Violine &amp; Leitung) - Grafenegg Festival
URL:https://www.concerti.de/termine/karl-heinz-schuetz-floete-anneleen-lenaerts-harfe-festival-strings-lucerne-daniel-dodds-violine-leitung-820455/
DTSTART;TZID=Europe/Berlin:20260823T110000
DTEND;TZID=Europe/Berlin:20260823T130000
DESCRIPTION:Interpreten: Karl-Heinz Schütz (Flöte)\, Anneleen Lenaerts (Harfe)\, Festival Strings Lucerne\, Daniel Dodds (Violine & Leitung) \nProgramm: Elgar: Serenade e-Moll op. 20\, Mozart: Konzert C-Dur KV 299 & Sinfonie C-Dur KV 551 „Jupiter“ \nhttps://www.concerti.de/termine/karl-heinz-schuetz-floete-anneleen-lenaerts-harfe-festival-strings-lucerne-daniel-dodds-violine-leitung-820455/
LOCATION:Schloss Grafenegg\, Grafenegg 10\, 3485 Grafenegg
END:VEVENT
END:VCALENDAR