BEGIN:VCALENDAR
VERSION:2.0
PRODID:concerti//https://www.concerti.de
CALSCALE:GREGORIAN
BEGIN:VTIMEZONE
TZID:Europe/Berlin
X-LIC-LOCATION:Europe/Berlin
BEGIN:DAYLIGHT
TZOFFSETFROM:+0100
TZOFFSETTO:+0200
TZNAME:CEST
DTSTART:19700329T020000
RRULE:FREQ=YEARLY;BYMONTH=3;BYDAY=-1SU
END:DAYLIGHT
BEGIN:STANDARD
TZOFFSETFROM:+0200
TZOFFSETTO:+0100
TZNAME:CET
DTSTART:19701025T030000
RRULE:FREQ=YEARLY;BYMONTH=10;BYDAY=-1SU
END:STANDARD
END:VTIMEZONE
BEGIN:VEVENT
UID:f87b10d360edb5f9b79e917d95c2dd37
SUMMARY:Waldmüller Trio Wien - Grafenegg Festival: Prélude
URL:https://www.concerti.de/termine/waldmueller-trio-wien-820458/
DTSTART;TZID=Europe/Berlin:20260823T163000
DTEND;TZID=Europe/Berlin:20260823T183000
DESCRIPTION:Interpreten: Waldmüller Trio Wien \nProgramm: Werke von Mozart\, Mahler & Kreisler \nhttps://www.concerti.de/termine/waldmueller-trio-wien-820458/
LOCATION:Schloss Grafenegg\, Grafenegg 10\, 3485 Grafenegg
END:VEVENT
END:VCALENDAR