BEGIN:VCALENDAR
VERSION:2.0
PRODID:concerti//https://www.concerti.de
CALSCALE:GREGORIAN
BEGIN:VTIMEZONE
TZID:Europe/Berlin
X-LIC-LOCATION:Europe/Berlin
BEGIN:DAYLIGHT
TZOFFSETFROM:+0100
TZOFFSETTO:+0200
TZNAME:CEST
DTSTART:19700329T020000
RRULE:FREQ=YEARLY;BYMONTH=3;BYDAY=-1SU
END:DAYLIGHT
BEGIN:STANDARD
TZOFFSETFROM:+0200
TZOFFSETTO:+0100
TZNAME:CET
DTSTART:19701025T030000
RRULE:FREQ=YEARLY;BYMONTH=10;BYDAY=-1SU
END:STANDARD
END:VTIMEZONE
BEGIN:VEVENT
UID:6cf6ad262a9dd3b3f62b928b3f1c83dd
SUMMARY:Víkingur Ólafsson (Klavier), Royal Concertgebouw Orchestra, Santtu-Matias Rouvali (Leitung) - Grafenegg Festival
URL:https://www.concerti.de/termine/vikingur-olafsson-klavier-royal-concertgebouw-orchestra-santtu-matias-rouvali-leitung-820473/
DTSTART;TZID=Europe/Berlin:20260829T191500
DTEND;TZID=Europe/Berlin:20260829T211500
DESCRIPTION:Interpreten: Víkingur Ólafsson (Klavier)\, Royal Concertgebouw Orchestra\, Santtu-Matias Rouvali (Leitung) \nProgramm: Beethoven: Klavierkonzert Nr. 5 Es-Dur op. 73\, Prokofjew: Sinfonie Nr. 5 B-Dur op. 100 \nhttps://www.concerti.de/termine/vikingur-olafsson-klavier-royal-concertgebouw-orchestra-santtu-matias-rouvali-leitung-820473/
LOCATION:Schloss Grafenegg\, Grafenegg 10\, 3485 Grafenegg
END:VEVENT
END:VCALENDAR