BEGIN:VCALENDAR
VERSION:2.0
PRODID:concerti//https://www.concerti.de
CALSCALE:GREGORIAN
BEGIN:VTIMEZONE
TZID:Europe/Berlin
X-LIC-LOCATION:Europe/Berlin
BEGIN:DAYLIGHT
TZOFFSETFROM:+0100
TZOFFSETTO:+0200
TZNAME:CEST
DTSTART:19700329T020000
RRULE:FREQ=YEARLY;BYMONTH=3;BYDAY=-1SU
END:DAYLIGHT
BEGIN:STANDARD
TZOFFSETFROM:+0200
TZOFFSETTO:+0100
TZNAME:CET
DTSTART:19701025T030000
RRULE:FREQ=YEARLY;BYMONTH=10;BYDAY=-1SU
END:STANDARD
END:VTIMEZONE
BEGIN:VEVENT
UID:d31854cd0f859b6bd3faa129d80cc2c9
SUMMARY:Asmik Grigorian (Sopran), Tonkünstler-Orchester Niederösterreich, Fabien Gabel (Leitung) - Grafenegg Festival
URL:https://www.concerti.de/termine/asmik-grigorian-sopran-tonkuenstler-orchester-niederoesterreich-fabien-gabel-leitung-820494/
DTSTART;TZID=Europe/Berlin:20260904T190000
DTEND;TZID=Europe/Berlin:20260904T210000
DESCRIPTION:Interpreten: Asmik Grigorian (Sopran)\, Tonkünstler-Orchester Niederösterreich\, Fabien Gabel (Leitung) \nProgramm: Respighi: Fontane di Roma\, Bellini: Casta diva aus „Norma“\, Verdi: Ballettmusik aus „Macbeth“\, Bonis: Salomé op. 100\, R. Strauss: Salome (Auszüge) \nhttps://www.concerti.de/termine/asmik-grigorian-sopran-tonkuenstler-orchester-niederoesterreich-fabien-gabel-leitung-820494/
LOCATION:Schloss Grafenegg\, Grafenegg 10\, 3485 Grafenegg
END:VEVENT
END:VCALENDAR