BEGIN:VCALENDAR
VERSION:2.0
PRODID:concerti//https://www.concerti.de
CALSCALE:GREGORIAN
BEGIN:VTIMEZONE
TZID:Europe/Berlin
X-LIC-LOCATION:Europe/Berlin
BEGIN:DAYLIGHT
TZOFFSETFROM:+0100
TZOFFSETTO:+0200
TZNAME:CEST
DTSTART:19700329T020000
RRULE:FREQ=YEARLY;BYMONTH=3;BYDAY=-1SU
END:DAYLIGHT
BEGIN:STANDARD
TZOFFSETFROM:+0200
TZOFFSETTO:+0100
TZNAME:CET
DTSTART:19701025T030000
RRULE:FREQ=YEARLY;BYMONTH=10;BYDAY=-1SU
END:STANDARD
END:VTIMEZONE
BEGIN:VEVENT
UID:cfd81ffb067a23d407f579efd4fb0797
SUMMARY:Die 12 Cellisten der Berliner Philharmoniker - Grafenegg Festival
URL:https://www.concerti.de/termine/die-12-cellisten-der-berliner-philharmoniker-820503/
DTSTART;TZID=Europe/Berlin:20260906T110000
DTEND;TZID=Europe/Berlin:20260906T130000
DESCRIPTION:Interpreten: Die 12 Cellisten der Berliner Philharmoniker \nProgramm: Werke von Klengel\, Françaix\, Debussy\, Legrand\, Scotto\, Sollima\, Adams\, Schostakowitsch\, Gershwin\, Miller\, Goldsmith u. a. \nhttps://www.concerti.de/termine/die-12-cellisten-der-berliner-philharmoniker-820503/
LOCATION:Schloss Grafenegg\, Grafenegg 10\, 3485 Grafenegg
END:VEVENT
END:VCALENDAR