BEGIN:VCALENDAR
VERSION:2.0
PRODID:concerti//https://www.concerti.de
CALSCALE:GREGORIAN
BEGIN:VTIMEZONE
TZID:Europe/Berlin
X-LIC-LOCATION:Europe/Berlin
BEGIN:DAYLIGHT
TZOFFSETFROM:+0100
TZOFFSETTO:+0200
TZNAME:CEST
DTSTART:19700329T020000
RRULE:FREQ=YEARLY;BYMONTH=3;BYDAY=-1SU
END:DAYLIGHT
BEGIN:STANDARD
TZOFFSETFROM:+0200
TZOFFSETTO:+0100
TZNAME:CET
DTSTART:19701025T030000
RRULE:FREQ=YEARLY;BYMONTH=10;BYDAY=-1SU
END:STANDARD
END:VTIMEZONE
BEGIN:VEVENT
UID:13975b71c3ae5e994eeaab1510e167f0
SUMMARY:Christian Tetzlaff (Violine), Hr-Sinfonieorchester, Alain Altinoglu (Leitung) - Kissinger Sommer
URL:https://www.concerti.de/termine/christian-tetzlaff-violine-hr-sinfonieorchester-alain-altinoglu-leitung-regentenbau-bad-kissingen-821192/
DTSTART;TZID=Europe/Berlin:20260626T193000
DTEND;TZID=Europe/Berlin:20260626T213000
DESCRIPTION:Interpreten: Christian Tetzlaff (Violine)\, Hr-Sinfonieorchester\, Alain Altinoglu (Leitung) \nProgramm: Dunajewskij: Die Kinder von Kapitän Grant (Auszug)\, Dvořák: Violinkonzert a-Moll\, Schostakowitsch: Sinfonie Nr. 10 e-Moll \nhttps://www.concerti.de/termine/christian-tetzlaff-violine-hr-sinfonieorchester-alain-altinoglu-leitung-regentenbau-bad-kissingen-821192/
LOCATION:Regentenbau Bad Kissingen\, Ludwigstraße 2\, 97688 Bad Kissingen
END:VEVENT
END:VCALENDAR