BEGIN:VCALENDAR
VERSION:2.0
PRODID:concerti//https://www.concerti.de
CALSCALE:GREGORIAN
BEGIN:VTIMEZONE
TZID:Europe/Berlin
X-LIC-LOCATION:Europe/Berlin
BEGIN:DAYLIGHT
TZOFFSETFROM:+0100
TZOFFSETTO:+0200
TZNAME:CEST
DTSTART:19700329T020000
RRULE:FREQ=YEARLY;BYMONTH=3;BYDAY=-1SU
END:DAYLIGHT
BEGIN:STANDARD
TZOFFSETFROM:+0200
TZOFFSETTO:+0100
TZNAME:CET
DTSTART:19701025T030000
RRULE:FREQ=YEARLY;BYMONTH=10;BYDAY=-1SU
END:STANDARD
END:VTIMEZONE
BEGIN:VEVENT
UID:dee0557a2d86ea1fa82f03f49facca52
SUMMARY:Camerata Salzburg, Rudolf Buchbinder (Klavier &#038; Leitung) - Kissinger Sommer
URL:https://www.concerti.de/termine/camerata-salzburg-rudolf-buchbinder-klavier-leitung-regentenbau-bad-kissingen-821198/
DTSTART;TZID=Europe/Berlin:20260627T190000
DTEND;TZID=Europe/Berlin:20260627T210000
DESCRIPTION:Interpreten: Camerata Salzburg\, Rudolf Buchbinder (Klavier & Leitung) \nProgramm: Mozart: Klavierkonzerte Nr. 9 Es-Dur KV 271\, Nr. 25 C-Dur KV 503 & Nr. 20 d-Moll KV 466 \nhttps://www.concerti.de/termine/camerata-salzburg-rudolf-buchbinder-klavier-leitung-regentenbau-bad-kissingen-821198/
LOCATION:Regentenbau Bad Kissingen\, Ludwigstraße 2\, 97688 Bad Kissingen
END:VEVENT
END:VCALENDAR