BEGIN:VCALENDAR
VERSION:2.0
PRODID:concerti//https://www.concerti.de
CALSCALE:GREGORIAN
BEGIN:VTIMEZONE
TZID:Europe/Berlin
X-LIC-LOCATION:Europe/Berlin
BEGIN:DAYLIGHT
TZOFFSETFROM:+0100
TZOFFSETTO:+0200
TZNAME:CEST
DTSTART:19700329T020000
RRULE:FREQ=YEARLY;BYMONTH=3;BYDAY=-1SU
END:DAYLIGHT
BEGIN:STANDARD
TZOFFSETFROM:+0200
TZOFFSETTO:+0100
TZNAME:CET
DTSTART:19701025T030000
RRULE:FREQ=YEARLY;BYMONTH=10;BYDAY=-1SU
END:STANDARD
END:VTIMEZONE
BEGIN:VEVENT
UID:130550338cbfb1b91018fed9414abd8c
SUMMARY:Jean-Yves Thibaudet (Klavier), Tschechische Philharmonie, Dalia Stasevska (Leitung) - Kissinger Sommer
URL:https://www.concerti.de/termine/jean-yves-thibaudet-klavier-tschechische-philharmonie-dalia-stasevska-leitung-regentenbau-bad-kissingen-821680/
DTSTART;TZID=Europe/Berlin:20260703T193000
DTEND;TZID=Europe/Berlin:20260703T213000
DESCRIPTION:Interpreten: Jean-Yves Thibaudet (Klavier)\, Tschechische Philharmonie\, Dalia Stasevska (Leitung) \nProgramm: Boulanger: D\'un matin de printemps\, Ravel: Klavierkonzert G-Dur\, Mendelssohn: Sinfonie Nr. 4 A-Dur „Italienische“ \nhttps://www.concerti.de/termine/jean-yves-thibaudet-klavier-tschechische-philharmonie-dalia-stasevska-leitung-regentenbau-bad-kissingen-821680/
LOCATION:Regentenbau Bad Kissingen\, Ludwigstraße 2\, 97688 Bad Kissingen
END:VEVENT
END:VCALENDAR