BEGIN:VCALENDAR
VERSION:2.0
PRODID:concerti//https://www.concerti.de
CALSCALE:GREGORIAN
BEGIN:VTIMEZONE
TZID:Europe/Berlin
X-LIC-LOCATION:Europe/Berlin
BEGIN:DAYLIGHT
TZOFFSETFROM:+0100
TZOFFSETTO:+0200
TZNAME:CEST
DTSTART:19700329T020000
RRULE:FREQ=YEARLY;BYMONTH=3;BYDAY=-1SU
END:DAYLIGHT
BEGIN:STANDARD
TZOFFSETFROM:+0200
TZOFFSETTO:+0100
TZNAME:CET
DTSTART:19701025T030000
RRULE:FREQ=YEARLY;BYMONTH=10;BYDAY=-1SU
END:STANDARD
END:VTIMEZONE
BEGIN:VEVENT
UID:07f4b64e2692635823148a17c5c31229
SUMMARY:Gluck: Orfeo ed Euridice (konzertant) - Kissinger Sommer
URL:https://www.concerti.de/termine/gluck-orfeo-ed-euridice-konzertant-regentenbau-bad-kissingen-821753/
DTSTART;TZID=Europe/Berlin:20260718T193000
DTEND;TZID=Europe/Berlin:20260718T213000
DESCRIPTION:Interpreten: Mélissa Petit (Sopran)\, Cecilia Bartoli (Mezzosopran)\, Les Musiciens du Prince – Monaco\, Il Canto di Orfeo Vokalensemble\, Gianluca Capuano (Leitung) \nhttps://www.concerti.de/termine/gluck-orfeo-ed-euridice-konzertant-regentenbau-bad-kissingen-821753/
LOCATION:Regentenbau Bad Kissingen\, Ludwigstraße 2\, 97688 Bad Kissingen
END:VEVENT
END:VCALENDAR