BEGIN:VCALENDAR
VERSION:2.0
PRODID:concerti//https://www.concerti.de
CALSCALE:GREGORIAN
BEGIN:VTIMEZONE
TZID:Europe/Berlin
X-LIC-LOCATION:Europe/Berlin
BEGIN:DAYLIGHT
TZOFFSETFROM:+0100
TZOFFSETTO:+0200
TZNAME:CEST
DTSTART:19700329T020000
RRULE:FREQ=YEARLY;BYMONTH=3;BYDAY=-1SU
END:DAYLIGHT
BEGIN:STANDARD
TZOFFSETFROM:+0200
TZOFFSETTO:+0100
TZNAME:CET
DTSTART:19701025T030000
RRULE:FREQ=YEARLY;BYMONTH=10;BYDAY=-1SU
END:STANDARD
END:VTIMEZONE
BEGIN:VEVENT
UID:347247bc6a5d4f86635620e351e1469d
SUMMARY:Pauken und Pracht – Festkonzert - Kirch'Klang Festival
URL:https://www.concerti.de/termine/pauken-und-pracht-festkonzert-822209/
DTSTART;TZID=Europe/Berlin:20260808T190000
DTEND;TZID=Europe/Berlin:20260808T210000
DESCRIPTION:Interpreten: Johanna Rosa Falkinger (Sopran)\, Alois Mühlbacher (Altus)\, Daniel Johannsen (Tenor)\, Stefan Zenkl (Bass)\, Orchester Wiener Akademie\, Martin Haselböck (Leitung) \nProgramm: Biber: Battalia à 10\, Beer: Klag der Soldaten „Nulla salus bello“ & Serenade „Der Nachtwächter“\, J. S. Bach: Die Zeit\, die Tag und Jahre macht BWV 134a & Tönet\, ihr Pauken! Erschallet\, Trompeten! BWV 214 \nhttps://www.concerti.de/termine/pauken-und-pracht-festkonzert-822209/
LOCATION:Schloss Kammer\, Schörfling
END:VEVENT
END:VCALENDAR