BEGIN:VCALENDAR
VERSION:2.0
PRODID:concerti//https://www.concerti.de
CALSCALE:GREGORIAN
BEGIN:VTIMEZONE
TZID:Europe/Berlin
X-LIC-LOCATION:Europe/Berlin
BEGIN:DAYLIGHT
TZOFFSETFROM:+0100
TZOFFSETTO:+0200
TZNAME:CEST
DTSTART:19700329T020000
RRULE:FREQ=YEARLY;BYMONTH=3;BYDAY=-1SU
END:DAYLIGHT
BEGIN:STANDARD
TZOFFSETFROM:+0200
TZOFFSETTO:+0100
TZNAME:CET
DTSTART:19701025T030000
RRULE:FREQ=YEARLY;BYMONTH=10;BYDAY=-1SU
END:STANDARD
END:VTIMEZONE
BEGIN:VEVENT
UID:cc6c6cb731720a1b5a731954a7f2c6db
SUMMARY:Bizet: Le docteur Miracle
URL:https://www.concerti.de/termine/bizet-le-docteur-miracle-nationaltheater-mannheim-822456/
DTSTART;TZID=Europe/Berlin:20260517T180000
DTEND;TZID=Europe/Berlin:20260517T200000
DESCRIPTION:Interpreten: Yejy Nam (Laurette)\, Rommie Rochell (Véronique)\, Dominic Lee (Capitaine Silvio\, Pasquin & Docteur Miracle)\, Zacharías Galaviz-Guerra (Le Podestat)\, Anton Legkii (Leitung)\, Claudia Plaßwich (Regie) \nhttps://www.concerti.de/termine/bizet-le-docteur-miracle-nationaltheater-mannheim-822456/
LOCATION:Nationaltheater Mannheim\, Goetheplatz\, 68161 Mannheim
END:VEVENT
END:VCALENDAR