BEGIN:VCALENDAR
VERSION:2.0
PRODID:concerti//https://www.concerti.de
CALSCALE:GREGORIAN
BEGIN:VTIMEZONE
TZID:Europe/Berlin
X-LIC-LOCATION:Europe/Berlin
BEGIN:DAYLIGHT
TZOFFSETFROM:+0100
TZOFFSETTO:+0200
TZNAME:CEST
DTSTART:19700329T020000
RRULE:FREQ=YEARLY;BYMONTH=3;BYDAY=-1SU
END:DAYLIGHT
BEGIN:STANDARD
TZOFFSETFROM:+0200
TZOFFSETTO:+0100
TZNAME:CET
DTSTART:19701025T030000
RRULE:FREQ=YEARLY;BYMONTH=10;BYDAY=-1SU
END:STANDARD
END:VTIMEZONE
BEGIN:VEVENT
UID:fdc4cfd25fbccdb522673d8301ec3459
SUMMARY:Lisa Batiashvili (Violine), Dresdner Philharmonie, Nikoloz Rachveli (Leitung) - Beethovenfest Bonn
URL:https://www.concerti.de/termine/lisa-batiashvili-violine-dresdner-philharmonie-nikoloz-rachveli-leitung-beethovenhalle-bonn-822861/
DTSTART;TZID=Europe/Berlin:20260920T193000
DTEND;TZID=Europe/Berlin:20260920T213000
DESCRIPTION:Interpreten: Lisa Batiashvili (Violine)\, Dresdner Philharmonie\, Nikoloz Rachveli (Leitung) \nProgramm: Chaplin: City Memories\, J. S. Bach/Hillborg: Ich ruf zu dir\, Herr Jesu Christ BWV 639\, Sibelius: Violinkonzert d-Moll op. 47\, Siegel/Rachveli: Ich hab‘ noch einen Koffer in Berlin\, Dvořák/Batiashvili: Largo aus Sinfonie Nr. 9 e-Moll op. 95\, Piazzolla/Rachveli: Adiós Nonino\, Vuelvo al Sur & Buenos Aires Hora Cero u. a. \nhttps://www.concerti.de/termine/lisa-batiashvili-violine-dresdner-philharmonie-nikoloz-rachveli-leitung-beethovenhalle-bonn-822861/
LOCATION:Beethovenhalle Bonn\, Wachsbleich 16\, 53111 Bonn
END:VEVENT
END:VCALENDAR