BEGIN:VCALENDAR
VERSION:2.0
PRODID:concerti//https://www.concerti.de
CALSCALE:GREGORIAN
BEGIN:VTIMEZONE
TZID:Europe/Berlin
X-LIC-LOCATION:Europe/Berlin
BEGIN:DAYLIGHT
TZOFFSETFROM:+0100
TZOFFSETTO:+0200
TZNAME:CEST
DTSTART:19700329T020000
RRULE:FREQ=YEARLY;BYMONTH=3;BYDAY=-1SU
END:DAYLIGHT
BEGIN:STANDARD
TZOFFSETFROM:+0200
TZOFFSETTO:+0100
TZNAME:CET
DTSTART:19701025T030000
RRULE:FREQ=YEARLY;BYMONTH=10;BYDAY=-1SU
END:STANDARD
END:VTIMEZONE
BEGIN:VEVENT
UID:abe0c4a2d8fd9396c2eea96b0bae9dec
SUMMARY:András Schiff (Klavier) - Beethovenfest Bonn
URL:https://www.concerti.de/termine/andras-schiff-klavier-beethovenhalle-bonn-822864/
DTSTART;TZID=Europe/Berlin:20260929T193000
DTEND;TZID=Europe/Berlin:20260929T213000
DESCRIPTION:Interpreten: András Schiff (Klavier) \nhttps://www.concerti.de/termine/andras-schiff-klavier-beethovenhalle-bonn-822864/
LOCATION:Beethovenhalle Bonn\, Wachsbleich 16\, 53111 Bonn
END:VEVENT
END:VCALENDAR