BEGIN:VCALENDAR
VERSION:2.0
PRODID:concerti//https://www.concerti.de
CALSCALE:GREGORIAN
BEGIN:VTIMEZONE
TZID:Europe/Berlin
X-LIC-LOCATION:Europe/Berlin
BEGIN:DAYLIGHT
TZOFFSETFROM:+0100
TZOFFSETTO:+0200
TZNAME:CEST
DTSTART:19700329T020000
RRULE:FREQ=YEARLY;BYMONTH=3;BYDAY=-1SU
END:DAYLIGHT
BEGIN:STANDARD
TZOFFSETFROM:+0200
TZOFFSETTO:+0100
TZNAME:CET
DTSTART:19701025T030000
RRULE:FREQ=YEARLY;BYMONTH=10;BYDAY=-1SU
END:STANDARD
END:VTIMEZONE
BEGIN:VEVENT
UID:615af5122ee523cf6ac39025ba0da905
SUMMARY:Nadezda Pisareva (Klavier)
URL:https://www.concerti.de/termine/nadezda-pisareva-klavier-759886/
DTSTART;TZID=Europe/Berlin:20260807T190000
DTEND;TZID=Europe/Berlin:20260807T210000
DESCRIPTION:Interpreten: Nadezda Pisareva (Klavier) \nProgramm: Tschaikowsky: Zwölf Klavierstücke op. 40\, Prokofjew: Klaviersonate Nr. 9 C-Dur op. 103 \nhttps://www.concerti.de/termine/nadezda-pisareva-klavier-759886/
LOCATION:Werratal Kultur- und Kongresszentrum\, Bad Sooden-Allendorf
END:VEVENT
END:VCALENDAR