BEGIN:VCALENDAR
VERSION:2.0
PRODID:concerti//https://www.concerti.de
CALSCALE:GREGORIAN
BEGIN:VTIMEZONE
TZID:Europe/Berlin
X-LIC-LOCATION:Europe/Berlin
BEGIN:DAYLIGHT
TZOFFSETFROM:+0100
TZOFFSETTO:+0200
TZNAME:CEST
DTSTART:19700329T020000
RRULE:FREQ=YEARLY;BYMONTH=3;BYDAY=-1SU
END:DAYLIGHT
BEGIN:STANDARD
TZOFFSETFROM:+0200
TZOFFSETTO:+0100
TZNAME:CET
DTSTART:19701025T030000
RRULE:FREQ=YEARLY;BYMONTH=10;BYDAY=-1SU
END:STANDARD
END:VTIMEZONE
BEGIN:VEVENT
UID:d215580e3e3df7e6d1389ca8e1ff1fc6
SUMMARY:Katie Mahan (Klavier)
URL:https://www.concerti.de/termine/katie-mahan-klavier-819004/
DTSTART;TZID=Europe/Berlin:20261002T190000
DTEND;TZID=Europe/Berlin:20261002T210000
DESCRIPTION:Interpreten: Katie Mahan (Klavier) \nProgramm: Mozart: Allegro D-Dur KV 626b/16\, Beethoven: Klaviersonate Nr. 32 c-Moll op. 111\, Debussy: Deux Arabesques\, Werke von Gershwin \nhttps://www.concerti.de/termine/katie-mahan-klavier-819004/
LOCATION:Werratal Kultur- und Kongresszentrum\, Bad Sooden-Allendorf
END:VEVENT
END:VCALENDAR