BEGIN:VCALENDAR
VERSION:2.0
PRODID:concerti//https://www.concerti.de
CALSCALE:GREGORIAN
BEGIN:VTIMEZONE
TZID:Europe/Berlin
X-LIC-LOCATION:Europe/Berlin
BEGIN:DAYLIGHT
TZOFFSETFROM:+0100
TZOFFSETTO:+0200
TZNAME:CEST
DTSTART:19700329T020000
RRULE:FREQ=YEARLY;BYMONTH=3;BYDAY=-1SU
END:DAYLIGHT
BEGIN:STANDARD
TZOFFSETFROM:+0200
TZOFFSETTO:+0100
TZNAME:CET
DTSTART:19701025T030000
RRULE:FREQ=YEARLY;BYMONTH=10;BYDAY=-1SU
END:STANDARD
END:VTIMEZONE
BEGIN:VEVENT
UID:1ff770ec79a397e9d81278a97183877e
SUMMARY:Preisträgerkonzert Kiwanis Musikförderpreis
URL:https://www.concerti.de/termine/preistraegerkonzert-kiwanis-musikfoerderpreis-833156/
DTSTART;TZID=Europe/Berlin:20260529T193000
DTEND;TZID=Europe/Berlin:20260529T213000
DESCRIPTION:Interpreten: Julian Ortner (Gesang)\, Lukas Laska (Klarinette)\, Lidia Baich (Violine)\, Magdalena Klima (Harfe)\, Katharina Stopfner (Diatonische Harmonika) \nhttps://www.concerti.de/termine/preistraegerkonzert-kiwanis-musikfoerderpreis-833156/
LOCATION:Stadttheater\, Gmunden
END:VEVENT
END:VCALENDAR