BEGIN:VCALENDAR
VERSION:2.0
PRODID:concerti//https://www.concerti.de
CALSCALE:GREGORIAN
BEGIN:VTIMEZONE
TZID:Europe/Berlin
X-LIC-LOCATION:Europe/Berlin
BEGIN:DAYLIGHT
TZOFFSETFROM:+0100
TZOFFSETTO:+0200
TZNAME:CEST
DTSTART:19700329T020000
RRULE:FREQ=YEARLY;BYMONTH=3;BYDAY=-1SU
END:DAYLIGHT
BEGIN:STANDARD
TZOFFSETFROM:+0200
TZOFFSETTO:+0100
TZNAME:CET
DTSTART:19701025T030000
RRULE:FREQ=YEARLY;BYMONTH=10;BYDAY=-1SU
END:STANDARD
END:VTIMEZONE
BEGIN:VEVENT
UID:36626a33061cfd1e88ac621d0fd81b84
SUMMARY:Festspiel-Nacht II - Ludwigsburger Schlossfestspiele
URL:https://www.concerti.de/termine/festspiel-nacht-ii-833341/
DTSTART;TZID=Europe/Berlin:20260703T200000
DTEND;TZID=Europe/Berlin:20260703T220000
DESCRIPTION:Interpreten: Carminho (vocals)\, Zé Ibarra (vocals)\, Il Posto & Marco Castelli Small Ensemble\, Simona Forlani (Tanz) Isabel Rossi (Tanz)\, Wanda Moretti (Choreografie) \nhttps://www.concerti.de/termine/festspiel-nacht-ii-833341/
LOCATION:Kunstzentrum Karlskaserne\, Ludwigsburg
END:VEVENT
END:VCALENDAR