BEGIN:VCALENDAR
VERSION:2.0
PRODID:concerti//https://www.concerti.de
CALSCALE:GREGORIAN
BEGIN:VTIMEZONE
TZID:Europe/Berlin
X-LIC-LOCATION:Europe/Berlin
BEGIN:DAYLIGHT
TZOFFSETFROM:+0100
TZOFFSETTO:+0200
TZNAME:CEST
DTSTART:19700329T020000
RRULE:FREQ=YEARLY;BYMONTH=3;BYDAY=-1SU
END:DAYLIGHT
BEGIN:STANDARD
TZOFFSETFROM:+0200
TZOFFSETTO:+0100
TZNAME:CET
DTSTART:19701025T030000
RRULE:FREQ=YEARLY;BYMONTH=10;BYDAY=-1SU
END:STANDARD
END:VTIMEZONE
BEGIN:VEVENT
UID:4295338024666928fc84a93a15d2ab37
SUMMARY:Monrepos Open Air - Ludwigsburger Schlossfestspiele
URL:https://www.concerti.de/termine/monrepos-open-air-iii-833894/
DTSTART;TZID=Europe/Berlin:20260719T200000
DTEND;TZID=Europe/Berlin:20260719T220000
DESCRIPTION:Interpreten: Kit Armstrong (Klavier)\, Le Concert Olympique\, Jan Caeyers (Leitung) \nProgramm: Weber: Konzertstück f-Moll op. 79\, Beethoven: Klavierkonzert Nr. 4 G-Dur op. 58 & Sinfonie Nr. 6 F-Dur op. 68 „Pastorale“ \nhttps://www.concerti.de/termine/monrepos-open-air-iii-833894/
LOCATION:Seeschloss Monrepos\, Ludwigsburg
END:VEVENT
END:VCALENDAR