BEGIN:VCALENDAR
VERSION:2.0
PRODID:concerti//https://www.concerti.de
CALSCALE:GREGORIAN
BEGIN:VTIMEZONE
TZID:Europe/Berlin
X-LIC-LOCATION:Europe/Berlin
BEGIN:DAYLIGHT
TZOFFSETFROM:+0100
TZOFFSETTO:+0200
TZNAME:CEST
DTSTART:19700329T020000
RRULE:FREQ=YEARLY;BYMONTH=3;BYDAY=-1SU
END:DAYLIGHT
BEGIN:STANDARD
TZOFFSETFROM:+0200
TZOFFSETTO:+0100
TZNAME:CET
DTSTART:19701025T030000
RRULE:FREQ=YEARLY;BYMONTH=10;BYDAY=-1SU
END:STANDARD
END:VTIMEZONE
BEGIN:VEVENT
UID:d3964800024e8d54f7152837d59749f9
SUMMARY:Musikalische Wanderlust - Festival Muri Barock
URL:https://www.concerti.de/termine/musikalische-wanderlust-834432/
DTSTART;TZID=Europe/Berlin:20260822T140000
DTEND;TZID=Europe/Berlin:20260822T160000
DESCRIPTION:Interpreten: Apollo’s Cabinet\, Reto Holzgang (Rezitation) \nhttps://www.concerti.de/termine/musikalische-wanderlust-834432/
LOCATION:Kloster Muri\, Muri
END:VEVENT
END:VCALENDAR