BEGIN:VCALENDAR
VERSION:2.0
PRODID:concerti//https://www.concerti.de
CALSCALE:GREGORIAN
BEGIN:VTIMEZONE
TZID:Europe/Berlin
X-LIC-LOCATION:Europe/Berlin
BEGIN:DAYLIGHT
TZOFFSETFROM:+0100
TZOFFSETTO:+0200
TZNAME:CEST
DTSTART:19700329T020000
RRULE:FREQ=YEARLY;BYMONTH=3;BYDAY=-1SU
END:DAYLIGHT
BEGIN:STANDARD
TZOFFSETFROM:+0200
TZOFFSETTO:+0100
TZNAME:CET
DTSTART:19701025T030000
RRULE:FREQ=YEARLY;BYMONTH=10;BYDAY=-1SU
END:STANDARD
END:VTIMEZONE
BEGIN:VEVENT
UID:641e4b6eb450d2744ac2e6271f83a348
SUMMARY:Voces Suaves, Les Cornets Noirs, Jörg-Andreas Bötticher (Leitung) - Festival Muri Barock
URL:https://www.concerti.de/termine/voces-suaves-les-cornets-noirs-joerg-andreas-boetticher-leitung-834448/
DTSTART;TZID=Europe/Berlin:20260823T170000
DTEND;TZID=Europe/Berlin:20260823T190000
DESCRIPTION:Interpreten: Voces Suaves\, Les Cornets Noirs\, Jörg-Andreas Bötticher (Leitung) \nProgramm: Gletle: Missa Regis Gloriae u. a. \nhttps://www.concerti.de/termine/voces-suaves-les-cornets-noirs-joerg-andreas-boetticher-leitung-834448/
LOCATION:Kloster Muri\, Muri
END:VEVENT
END:VCALENDAR