BEGIN:VCALENDAR
VERSION:2.0
PRODID:concerti//https://www.concerti.de
CALSCALE:GREGORIAN
BEGIN:VTIMEZONE
TZID:Europe/Berlin
X-LIC-LOCATION:Europe/Berlin
BEGIN:DAYLIGHT
TZOFFSETFROM:+0100
TZOFFSETTO:+0200
TZNAME:CEST
DTSTART:19700329T020000
RRULE:FREQ=YEARLY;BYMONTH=3;BYDAY=-1SU
END:DAYLIGHT
BEGIN:STANDARD
TZOFFSETFROM:+0200
TZOFFSETTO:+0100
TZNAME:CET
DTSTART:19701025T030000
RRULE:FREQ=YEARLY;BYMONTH=10;BYDAY=-1SU
END:STANDARD
END:VTIMEZONE
BEGIN:VEVENT
UID:af234eedf768987809993acf9f088701
SUMMARY:Adlgasser: Missa C-Dur
URL:https://www.concerti.de/termine/adlgasser-missa-c-dur-834451/
DTSTART;TZID=Europe/Berlin:20260906T190000
DTEND;TZID=Europe/Berlin:20260906T210000
DESCRIPTION:Interpreten: Christoph Anzböck (Orgel)\, CantuSonus\, Theres Meienberg (Leitung) \nhttps://www.concerti.de/termine/adlgasser-missa-c-dur-834451/
LOCATION:Kloster Muri\, Muri
END:VEVENT
END:VCALENDAR