BEGIN:VCALENDAR
VERSION:2.0
PRODID:concerti//https://www.concerti.de
CALSCALE:GREGORIAN
BEGIN:VTIMEZONE
TZID:Europe/Berlin
X-LIC-LOCATION:Europe/Berlin
BEGIN:DAYLIGHT
TZOFFSETFROM:+0100
TZOFFSETTO:+0200
TZNAME:CEST
DTSTART:19700329T020000
RRULE:FREQ=YEARLY;BYMONTH=3;BYDAY=-1SU
END:DAYLIGHT
BEGIN:STANDARD
TZOFFSETFROM:+0200
TZOFFSETTO:+0100
TZNAME:CET
DTSTART:19701025T030000
RRULE:FREQ=YEARLY;BYMONTH=10;BYDAY=-1SU
END:STANDARD
END:VTIMEZONE
BEGIN:VEVENT
UID:bafab5f3e59dfd3b52505135777c66dd
SUMMARY:Symphonic Brass Quintet - Murten Classics: Apérokonzert
URL:https://www.concerti.de/termine/symphonic-brass-quintet-835490/
DTSTART;TZID=Europe/Berlin:20260810T193000
DTEND;TZID=Europe/Berlin:20260810T213000
DESCRIPTION:Interpreten: Symphonic Brass Quintet \nhttps://www.concerti.de/termine/symphonic-brass-quintet-835490/
LOCATION:Sportplatzweg am See\, Muntelier
END:VEVENT
END:VCALENDAR