BEGIN:VCALENDAR
VERSION:2.0
PRODID:concerti//https://www.concerti.de
CALSCALE:GREGORIAN
BEGIN:VTIMEZONE
TZID:Europe/Berlin
X-LIC-LOCATION:Europe/Berlin
BEGIN:DAYLIGHT
TZOFFSETFROM:+0100
TZOFFSETTO:+0200
TZNAME:CEST
DTSTART:19700329T020000
RRULE:FREQ=YEARLY;BYMONTH=3;BYDAY=-1SU
END:DAYLIGHT
BEGIN:STANDARD
TZOFFSETFROM:+0200
TZOFFSETTO:+0100
TZNAME:CET
DTSTART:19701025T030000
RRULE:FREQ=YEARLY;BYMONTH=10;BYDAY=-1SU
END:STANDARD
END:VTIMEZONE
BEGIN:VEVENT
UID:6e1177cae08e6862f6a6f26ff88071f0
SUMMARY:Esther Hoppe (Violine), Camerata Zürich - Murten Classics
URL:https://www.concerti.de/termine/esther-hoppe-violine-camerata-zuerich-835546/
DTSTART;TZID=Europe/Berlin:20260821T200000
DTEND;TZID=Europe/Berlin:20260821T220000
DESCRIPTION:Interpreten: Esther Hoppe (Violine)\, Camerata Zürich \nProgramm: Werke von Schoeck\, Mozart & Mendelssohn \nhttps://www.concerti.de/termine/esther-hoppe-violine-camerata-zuerich-835546/
LOCATION:Schloss Murten\, Schlosshof\, Murten
END:VEVENT
END:VCALENDAR