BEGIN:VCALENDAR
VERSION:2.0
PRODID:concerti//https://www.concerti.de
CALSCALE:GREGORIAN
BEGIN:VTIMEZONE
TZID:Europe/Berlin
X-LIC-LOCATION:Europe/Berlin
BEGIN:DAYLIGHT
TZOFFSETFROM:+0100
TZOFFSETTO:+0200
TZNAME:CEST
DTSTART:19700329T020000
RRULE:FREQ=YEARLY;BYMONTH=3;BYDAY=-1SU
END:DAYLIGHT
BEGIN:STANDARD
TZOFFSETFROM:+0200
TZOFFSETTO:+0100
TZNAME:CET
DTSTART:19701025T030000
RRULE:FREQ=YEARLY;BYMONTH=10;BYDAY=-1SU
END:STANDARD
END:VTIMEZONE
BEGIN:VEVENT
UID:3708b8af97b5e8f1d17c605091931a22
SUMMARY:Abschlusskonzert - Mendelssohn Musikwoche Wengen
URL:https://www.concerti.de/termine/abschlusskonzert-835553/
DTSTART;TZID=Europe/Berlin:20260822T173000
DTEND;TZID=Europe/Berlin:20260822T193000
DESCRIPTION:Interpreten: Sao Soulez Larivière (Viola)\, Guarneri Trio Prag \nProgramm: Werke von Beethoven & Schumann \nhttps://www.concerti.de/termine/abschlusskonzert-835553/
LOCATION:Reformierte Kirche\, Wengen
END:VEVENT
END:VCALENDAR