BEGIN:VCALENDAR
VERSION:2.0
PRODID:concerti//https://www.concerti.de
CALSCALE:GREGORIAN
BEGIN:VTIMEZONE
TZID:Europe/Berlin
X-LIC-LOCATION:Europe/Berlin
BEGIN:DAYLIGHT
TZOFFSETFROM:+0100
TZOFFSETTO:+0200
TZNAME:CEST
DTSTART:19700329T020000
RRULE:FREQ=YEARLY;BYMONTH=3;BYDAY=-1SU
END:DAYLIGHT
BEGIN:STANDARD
TZOFFSETFROM:+0200
TZOFFSETTO:+0100
TZNAME:CET
DTSTART:19701025T030000
RRULE:FREQ=YEARLY;BYMONTH=10;BYDAY=-1SU
END:STANDARD
END:VTIMEZONE
BEGIN:VEVENT
UID:46a72ae4293a9d2aa617f5be04dd026b
SUMMARY:La Banda Storica - Murten Classics
URL:https://www.concerti.de/termine/la-banda-storica-835565/
DTSTART;TZID=Europe/Berlin:20260823T170000
DTEND;TZID=Europe/Berlin:20260823T190000
DESCRIPTION:Interpreten: La Banda Storica \nProgramm: Werke von Pleyel & Beethoven \nhttps://www.concerti.de/termine/la-banda-storica-835565/
LOCATION:Französische Kirche\, Murten
END:VEVENT
END:VCALENDAR