BEGIN:VCALENDAR
VERSION:2.0
PRODID:concerti//https://www.concerti.de
CALSCALE:GREGORIAN
BEGIN:VTIMEZONE
TZID:Europe/Berlin
X-LIC-LOCATION:Europe/Berlin
BEGIN:DAYLIGHT
TZOFFSETFROM:+0100
TZOFFSETTO:+0200
TZNAME:CEST
DTSTART:19700329T020000
RRULE:FREQ=YEARLY;BYMONTH=3;BYDAY=-1SU
END:DAYLIGHT
BEGIN:STANDARD
TZOFFSETFROM:+0200
TZOFFSETTO:+0100
TZNAME:CET
DTSTART:19701025T030000
RRULE:FREQ=YEARLY;BYMONTH=10;BYDAY=-1SU
END:STANDARD
END:VTIMEZONE
BEGIN:VEVENT
UID:06601223908eb149acd287c0d27586a9
SUMMARY:Sofja Gülbadamova (Klavier), Sinfonieorchester Wuppertal, Christoph-Mathias Mueller (Leitung) - Murten Classics
URL:https://www.concerti.de/termine/sofja-guelbadamova-klavier-sinfonieorchester-wuppertal-christoph-mathias-mueller-leitung-835587/
DTSTART;TZID=Europe/Berlin:20260830T200000
DTEND;TZID=Europe/Berlin:20260830T220000
DESCRIPTION:Interpreten: Sofja Gülbadamova (Klavier)\, Sinfonieorchester Wuppertal\, Christoph-Mathias Mueller (Leitung) \nProgramm: Werke von Sibelius\, Rossini\, Saint-Saëns\, Bloch\, Barvinsky\, Chatschaturjan & Rózsa \nhttps://www.concerti.de/termine/sofja-guelbadamova-klavier-sinfonieorchester-wuppertal-christoph-mathias-mueller-leitung-835587/
LOCATION:Schloss Murten\, Schlosshof\, Murten
END:VEVENT
END:VCALENDAR