BEGIN:VCALENDAR
VERSION:2.0
PRODID:concerti//https://www.concerti.de
CALSCALE:GREGORIAN
BEGIN:VTIMEZONE
TZID:Europe/Berlin
X-LIC-LOCATION:Europe/Berlin
BEGIN:DAYLIGHT
TZOFFSETFROM:+0100
TZOFFSETTO:+0200
TZNAME:CEST
DTSTART:19700329T020000
RRULE:FREQ=YEARLY;BYMONTH=3;BYDAY=-1SU
END:DAYLIGHT
BEGIN:STANDARD
TZOFFSETFROM:+0200
TZOFFSETTO:+0100
TZNAME:CET
DTSTART:19701025T030000
RRULE:FREQ=YEARLY;BYMONTH=10;BYDAY=-1SU
END:STANDARD
END:VTIMEZONE
BEGIN:VEVENT
UID:121c223602c76411684b25fd6a36bd4d
SUMMARY:Max Müller (Bariton &amp; Rezitation), Volker Nemmer (Klavier) - Festspiele Taggenbrunn
URL:https://www.concerti.de/termine/max-mueller-bariton-rezitation-volker-nemmer-klavier-836192/
DTSTART;TZID=Europe/Berlin:20260529T200000
DTEND;TZID=Europe/Berlin:20260529T220000
DESCRIPTION:Interpreten: Max Müller (Bariton & Rezitation)\, Volker Nemmer (Klavier) \nProgramm: Werke von Mozart\, Rossini\, Bernstein\, Stolz\, Leopoldi u. a.\, Lesungen aus Werken von Loriot\, Erhardt & Torberg \nhttps://www.concerti.de/termine/max-mueller-bariton-rezitation-volker-nemmer-klavier-836192/
LOCATION:Burg Taggenbrunn\, Taggenbrunn
END:VEVENT
END:VCALENDAR