BEGIN:VCALENDAR
VERSION:2.0
PRODID:concerti//https://www.concerti.de
CALSCALE:GREGORIAN
BEGIN:VTIMEZONE
TZID:Europe/Berlin
X-LIC-LOCATION:Europe/Berlin
BEGIN:DAYLIGHT
TZOFFSETFROM:+0100
TZOFFSETTO:+0200
TZNAME:CEST
DTSTART:19700329T020000
RRULE:FREQ=YEARLY;BYMONTH=3;BYDAY=-1SU
END:DAYLIGHT
BEGIN:STANDARD
TZOFFSETFROM:+0200
TZOFFSETTO:+0100
TZNAME:CET
DTSTART:19701025T030000
RRULE:FREQ=YEARLY;BYMONTH=10;BYDAY=-1SU
END:STANDARD
END:VTIMEZONE
BEGIN:VEVENT
UID:db7f39de6bf71eac7c2f360e937bd9d5
SUMMARY:Die letzten Tage der Menschlichkeit - Klagenfurt Festival
URL:https://www.concerti.de/termine/die-letzten-tage-der-menschlichkeit-konzerthaus-klagenfurt-836211/
DTSTART;TZID=Europe/Berlin:20260608T200000
DTEND;TZID=Europe/Berlin:20260608T220000
DESCRIPTION:Interpreten: Georg Nigl (Bariton)\, Markus Hinterhäuser (Klavier)\, Nicholas Ofczarek (Rezitation) \nProgramm: Werke von Mahler & Eisler\, Lesung aus Werken von Kraus \nhttps://www.concerti.de/termine/die-letzten-tage-der-menschlichkeit-konzerthaus-klagenfurt-836211/
LOCATION:Konzerthaus Klagenfurt\, Mießtaler Str. 8\, 9020 Klagenfurt
END:VEVENT
END:VCALENDAR