BEGIN:VCALENDAR
VERSION:2.0
PRODID:concerti//https://www.concerti.de
CALSCALE:GREGORIAN
BEGIN:VTIMEZONE
TZID:Europe/Berlin
X-LIC-LOCATION:Europe/Berlin
BEGIN:DAYLIGHT
TZOFFSETFROM:+0100
TZOFFSETTO:+0200
TZNAME:CEST
DTSTART:19700329T020000
RRULE:FREQ=YEARLY;BYMONTH=3;BYDAY=-1SU
END:DAYLIGHT
BEGIN:STANDARD
TZOFFSETFROM:+0200
TZOFFSETTO:+0100
TZNAME:CET
DTSTART:19701025T030000
RRULE:FREQ=YEARLY;BYMONTH=10;BYDAY=-1SU
END:STANDARD
END:VTIMEZONE
BEGIN:VEVENT
UID:e27a64713cd10534066ebb32ba5fbfdd
SUMMARY:Mahler: Sinfonie Nr. 3 d-Moll - Oberösterreichische Stiftskonzerte
URL:https://www.concerti.de/termine/mahler-sinfonie-nr-3-d-moll-836252/
DTSTART;TZID=Europe/Berlin:20260630T193000
DTEND;TZID=Europe/Berlin:20260630T213000
DESCRIPTION:Interpreten: Wiebke Lehmkuhl (Alt)\, Hard-Chor Linz\, Linzer Jeunesse Chor\, Kinderchor des Landestheater Linz\, Bruckner Orchester Linz\, Markus Poschner (Leitung) \nhttps://www.concerti.de/termine/mahler-sinfonie-nr-3-d-moll-836252/
LOCATION:Stift St. Florian\, St. Florian
END:VEVENT
END:VCALENDAR