BEGIN:VCALENDAR
VERSION:2.0
PRODID:concerti//https://www.concerti.de
CALSCALE:GREGORIAN
BEGIN:VTIMEZONE
TZID:Europe/Berlin
X-LIC-LOCATION:Europe/Berlin
BEGIN:DAYLIGHT
TZOFFSETFROM:+0100
TZOFFSETTO:+0200
TZNAME:CEST
DTSTART:19700329T020000
RRULE:FREQ=YEARLY;BYMONTH=3;BYDAY=-1SU
END:DAYLIGHT
BEGIN:STANDARD
TZOFFSETFROM:+0200
TZOFFSETTO:+0100
TZNAME:CET
DTSTART:19701025T030000
RRULE:FREQ=YEARLY;BYMONTH=10;BYDAY=-1SU
END:STANDARD
END:VTIMEZONE
BEGIN:VEVENT
UID:ef451b643a20ea16578a5c11c2640384
SUMMARY:Sharon Kam (Klarinette), Schumann Quartett - Carinthischer Sommer
URL:https://www.concerti.de/termine/sharon-kam-klarinette-schumann-quartett-836268/
DTSTART;TZID=Europe/Berlin:20260707T193000
DTEND;TZID=Europe/Berlin:20260707T213000
DESCRIPTION:Interpreten: Sharon Kam (Klarinette)\, Schumann Quartett \nProgramm: Mozart: Klarinettenquintett A-Dur KV 581 „Stadler“\, Bosmans: Streichquartett\, Weber: Klarinettenquintett B-Dur op. 34 „Grand Quintetto“ \nhttps://www.concerti.de/termine/sharon-kam-klarinette-schumann-quartett-836268/
LOCATION:Stiftskirche Ossiach\, Ossiach
END:VEVENT
END:VCALENDAR